BEGIN:VCALENDAR
VERSION:2.0
PRODID:-//eventon.com NONSGML v1.0//EN
CALSCALE:GREGORIAN
METHOD:PUBLISH
BEGIN:VEVENT
UID:69eb87e89df4d
DTSTAMP:20260424T151032Z
DTSTART:20260904T220000Z
DTEND:20260906T040000Z
LOCATION:
SUMMARY:S1 Rallysprint
DESCRIPTION:More information coming soon\nhttps://www.cqmsc.asn.au/events/s
 1-rallysprint/
URL:https://www.cqmsc.asn.au/events/s1-rallysprint/
END:VEVENT
END:VCALENDAR