BEGIN:VCALENDAR
VERSION:2.0
PRODID:-//eventon.com NONSGML v1.0//EN
CALSCALE:GREGORIAN
METHOD:PUBLISH
BEGIN:VEVENT
UID:69eb8796d84d5
DTSTAMP:20260424T150910Z
DTSTART:20260612T220000Z
DTEND:20260614T135000Z
LOCATION:
SUMMARY:S1 Rallysprint
DESCRIPTION:More information coming soon\nhttps://www.cqmsc.asn.au/events/c
 ooper-downs-s1-rallysprint-round-2/
URL:https://www.cqmsc.asn.au/events/cooper-downs-s1-rallysprint-round-2/
END:VEVENT
END:VCALENDAR