BEGIN:VCALENDAR
VERSION:2.0
PRODID:-//eventon.com NONSGML v1.0//EN
CALSCALE:GREGORIAN
METHOD:PUBLISH
BEGIN:VEVENT
UID:69eb87ef5086d
DTSTAMP:20260424T151039Z
DTSTART:20261025
DTEND:20261026
LOCATION:
SUMMARY:Dirt Khanacross
DESCRIPTION:More information coming soon\nhttps://www.cqmsc.asn.au/events/d
 irt-khanacross/
URL:https://www.cqmsc.asn.au/events/dirt-khanacross/
END:VEVENT
END:VCALENDAR